BEGIN:VCALENDAR
VERSION:2.0
PRODID:-//Outgrow Your Garage - ECPv6.14.2//NONSGML v1.0//EN
CALSCALE:GREGORIAN
METHOD:PUBLISH
X-WR-CALNAME:Outgrow Your Garage
X-ORIGINAL-URL:https://www.outgrowyourgarage.com
X-WR-CALDESC:Events for Outgrow Your Garage
REFRESH-INTERVAL;VALUE=DURATION:PT1H
X-Robots-Tag:noindex
X-PUBLISHED-TTL:PT1H
BEGIN:VTIMEZONE
TZID:America/Denver
BEGIN:DAYLIGHT
TZOFFSETFROM:-0700
TZOFFSETTO:-0600
TZNAME:MDT
DTSTART:20250309T090000
END:DAYLIGHT
BEGIN:STANDARD
TZOFFSETFROM:-0600
TZOFFSETTO:-0700
TZNAME:MST
DTSTART:20251102T080000
END:STANDARD
END:VTIMEZONE
BEGIN:VEVENT
DTSTART;TZID=America/Denver:20250127T120000
DTEND;TZID=America/Denver:20250127T130000
DTSTAMP:20260423T082238
CREATED:20241102T020304Z
LAST-MODIFIED:20250127T061845Z
UID:7029-1737979200-1737982800@www.outgrowyourgarage.com
SUMMARY:Grants + Loans for Rural Businesses (Virtual)
DESCRIPTION:Have you ever had a great idea and then immediately thought “too bad I don’t have the funding….”? If so\, this webinar is for you. We’ll focus on how to find and evaluate funding resources for your business\, as well as how to prepare your financials for application and implementation. As a follow up to our previous presentations on Public – Private Partnerships and Employee Ownership Options\, we’ll take a specific look into how your business or community can fund ideas and projects in those areas. \nRegister here: https://downtowncolorado.app.neoncrm.com/np/clients/downtowncolorado/eventRegistration.jsp?event=541&
URL:https://www.outgrowyourgarage.com/event/grants-loans-for-rural-businesses/
LOCATION:CO
END:VEVENT
END:VCALENDAR